BEGIN:VCALENDAR
VERSION:2.0
PRODID:-//BrouwhuysLive - ECPv6.15.20//NONSGML v1.0//EN
CALSCALE:GREGORIAN
METHOD:PUBLISH
X-ORIGINAL-URL:https://brouwhuyslive.nl
X-WR-CALDESC:Evenementen voor BrouwhuysLive
REFRESH-INTERVAL;VALUE=DURATION:PT1H
X-Robots-Tag:noindex
X-PUBLISHED-TTL:PT1H
BEGIN:VTIMEZONE
TZID:UTC
BEGIN:STANDARD
TZOFFSETFROM:+0000
TZOFFSETTO:+0000
TZNAME:UTC
DTSTART:20250101T000000
END:STANDARD
END:VTIMEZONE
BEGIN:VEVENT
DTSTART;TZID=UTC:20260531T160000
DTEND;TZID=UTC:20260531T190000
DTSTAMP:20260426T042245
CREATED:20250226T102909Z
LAST-MODIFIED:20260119T150425Z
UID:574-1780243200-1780254000@brouwhuyslive.nl
SUMMARY:Brouwhuys LIVE! presenteert Stapled the Band
DESCRIPTION:Gospel\, Soul\, Blues en een vleugje Funk zijn de ingrediënten voor de nieuwe band rondom zangeressen\nFloor Kraayvanger\, Marloes Borgman en Lilian de Jong (allen uit the Etta James Experience):\nSTAPLED! Samen met hun geweldige muzikanten brengen zij een ode aan Mavis Staples en haar Staple Singers. \nHeel veel meerstemmige zang\, prachtige nummers\, groovy gitaren\, pompende bas\, mega fijne hammond partijen en funky drums gecombineerd\,\nmet een niet te stuiten energie van de bandleden van dit nieuwe project …. \nMaak je op voor bekende liedjes als I’ll take you There\, Respect Yourself en Everyday People\, en daarnaast een heerlijk –\nmaar misschien wat onbekender oeuvre – van deze prachtige dame met haar diepdonkere\, rauwe soulstem.. \nStapled: \nFloor Kraayvanger – Lead vocals\nLilian de Jong – Vocals\nMarloes Borgman – Vocals \nJan Tonnis – Bass\nBert de Jonge – Drums\, Backing vocals\nSjoerd Smeenk – Hammond\, Piano\, Backing vocals\nLuc Verheij – Guitar\, ​Backing vocals
URL:https://brouwhuyslive.nl/event/brouwhuys-live-presenteert-stapled-the-band/
LOCATION:Grolsch Brouwhuys De Lange Gang\, Kevelderstraat 15\, Groenlo\, 7141BE\, Nederland
ATTACH;FMTTYPE=image/jpeg:https://brouwhuyslive.nl/wp-content/uploads/2025/08/stapled-luxor.jpeg
END:VEVENT
BEGIN:VEVENT
DTSTART;TZID=UTC:20260927T160000
DTEND;TZID=UTC:20260927T190000
DTSTAMP:20260426T042245
CREATED:20260119T150209Z
LAST-MODIFIED:20260119T150209Z
UID:633-1790524800-1790535600@brouwhuyslive.nl
SUMMARY:Programma volgt
DESCRIPTION:
URL:https://brouwhuyslive.nl/event/programma-volgt-2/
LOCATION:Grolsch Brouwhuys De Lange Gang\, Kevelderstraat 15\, Groenlo\, 7141BE\, Nederland
END:VEVENT
BEGIN:VEVENT
DTSTART;TZID=UTC:20261108T160000
DTEND;TZID=UTC:20261108T190000
DTSTAMP:20260426T042245
CREATED:20260119T150300Z
LAST-MODIFIED:20260119T150300Z
UID:635-1794153600-1794164400@brouwhuyslive.nl
SUMMARY:Programma volgt
DESCRIPTION:
URL:https://brouwhuyslive.nl/event/programma-volgt-3/
LOCATION:Grolsch Brouwhuys De Lange Gang\, Kevelderstraat 15\, Groenlo\, 7141BE\, Nederland
END:VEVENT
BEGIN:VEVENT
DTSTART;TZID=UTC:20261220T160000
DTEND;TZID=UTC:20261220T190000
DTSTAMP:20260426T042245
CREATED:20260119T150343Z
LAST-MODIFIED:20260119T150343Z
UID:637-1797782400-1797793200@brouwhuyslive.nl
SUMMARY:Programma volgt
DESCRIPTION:
URL:https://brouwhuyslive.nl/event/programma-volgt-4/
LOCATION:Grolsch Brouwhuys De Lange Gang\, Kevelderstraat 15\, Groenlo\, 7141BE\, Nederland
END:VEVENT
END:VCALENDAR