BEGIN:VCALENDAR
VERSION:2.0
PRODID:-//BrouwhuysLive - ECPv6.15.20//NONSGML v1.0//EN
CALSCALE:GREGORIAN
METHOD:PUBLISH
X-WR-CALNAME:BrouwhuysLive
X-ORIGINAL-URL:https://brouwhuyslive.nl
X-WR-CALDESC:Evenementen voor BrouwhuysLive
REFRESH-INTERVAL;VALUE=DURATION:PT1H
X-Robots-Tag:noindex
X-PUBLISHED-TTL:PT1H
BEGIN:VTIMEZONE
TZID:UTC
BEGIN:STANDARD
TZOFFSETFROM:+0000
TZOFFSETTO:+0000
TZNAME:UTC
DTSTART:20230101T000000
END:STANDARD
END:VTIMEZONE
BEGIN:VEVENT
DTSTART;TZID=UTC:20260315T160000
DTEND;TZID=UTC:20260315T190000
DTSTAMP:20260426T004142
CREATED:20260119T145419Z
LAST-MODIFIED:20260119T145419Z
UID:627-1773590400-1773601200@brouwhuyslive.nl
SUMMARY:Jetse de Jong Super Trio
DESCRIPTION:HET JETSE DE JONG SUPER TRIO presenteert HERE AT HOME \nPianist en zanger Jetse de Jong bestormt de Nederlandse blues scene met zijn virtuoze rhythm and blues\, boogie en funk. Men zegt dat hij op jonge leeftijd in een grote ketel New Orleans gumbo viel. Hij klom er uit en is niet meer gestopt met piano spelen!  \nGewapend met dampende New Orleans second-line grooves en rokende blues-licks bezweert Jetse de Jong het klavier. Zijn levenslange obsessie voor blues\, jazz en gospel muziek uit het zuiden van de Verenigde Staten komt naar voren in zowel zijn eigen werk als hommages aan zijn helden Dr. John\, Ray Charles en Fats Domino. De ‘’new kid on the block’’ presenteert zijn debuutalbum Here At Home\, het meest groovy dagboek ooit op plaat gezet.  \nJetse is één van de zeldzame pianisten aan deze kant van de oceaan die een meester is in de New Orleans blues pianostijl. In 2023 bracht Jetse zijn debuut-EP Jetse de Jong Plays Dorothy Labostrie uit. De single Rich Woman werd zelfs op het wereldberoemde New Orleans radiostation WWOZ gedraaid. Dave Doyle schreef er in de Syncopated Times het volgende over: &#8230; a toe-tapping gumbo which oozes the flavors of both New Orleans and New York City. \nHet Jetse de Jong Super Trio bestaat uit doorgewinterde sessie musici. Drummer Rafael Schwidessen (Dawn Brothers\, Blackbird\, Ian Siegal) en bassist Kian Tofft (Dr. Velvet\, Bayou Bayou) vormen de ijzersterke ruggengraat. Rootsy\, maar toch vers. Speciaal voor het Brouwhuys neemt hij saxofonist Martijn van Toor (Tinez Roots Club) mee! \n&#8221;This man studied all the great piano players from New Orleans. From the originators in Ragtime and early Jazz to the great R&B pioneers from the 1940’s and 1950’s and the pianists that shaped the sound of New Orleans Soul and Funk. And because he has mastered every style in New Orleans piano\, he is free to go where he wants to go!&#8221; &#8211; DJ Moonshine \n&#8230;En altijd is er die stevige\, pushende piano! &#8211; Peter Bierhaus [Auteur George Jazz Café]
URL:https://brouwhuyslive.nl/event/jetse-de-jong-super-trio/
LOCATION:Grolsch Brouwhuys De Lange Gang\, Kevelderstraat 15\, Groenlo\, 7141BE\, Nederland
ATTACH;FMTTYPE=image/jpeg:https://brouwhuyslive.nl/wp-content/uploads/2026/01/photo-by-©Amanda-Malia-scaled.jpeg
END:VEVENT
BEGIN:VEVENT
DTSTART;TZID=UTC:20260125T160000
DTEND;TZID=UTC:20260125T190000
DTSTAMP:20260426T004142
CREATED:20260118T100458Z
LAST-MODIFIED:20260118T100531Z
UID:616-1769356800-1769367600@brouwhuyslive.nl
SUMMARY:Ruud Weber band  ft. Lars Müller & Fokke de Jong
DESCRIPTION:De uit Enschede afkomstige Ruud Weber kennen we als zanger bassist van King of the World en Snowy\nWhite. Ook begeleide hij nationale en internationale artiesten als Matt Schofield\, Kid Ramos\, Jon Amor\,\nMick Taylor\, David Gogo e.v.a. Hij werd tot driemaal toe verkozen tot “Best Blues Bassist” (2013\, 2014\,\n2016) door the Dutch Blues Foundation. De Ruud Weber band komt samen met gitaarvirtuoos Lars Muller\ndie beïnvloed is door de “three Kings (BB\, Albert & Freddie King) maar ook door de moderne\nbluesgitaristen als Larry Carlton en Robben Ford. De roots en blues van de Ruud Weber band is sterk\ngetypeerd door de karakteristieke gitaarsound van Lars Müller. Fokke de Jong van Normaal\, Malford\nMiligan\, Johan Derksen en King of the World is natuurlijk de ultieme rootsdrummer die dit powertrio\nafmaakt. De energieke show van Ruud Weber met een mix van vele roots stijlen staat voor absolute\nwereldklasse. De ervaring druipt eraf bij dit trio!\n\nRuud Weber – zang/bas \nDeze zanger\, bassist en componist is vooral bekend van zijn werk bij Snowy White en King of the World.\nOp jonge leeftijd leerde hij de blues kennen bij Barry McCabe’s Albatross\, waarmee hij jaren door Europa\ntoerde. Gaandeweg ontwikkelde hij de unieke combinatie van zang en bas en groeide uit tot een\nvolwaardig frontman bij Snowy White met wie hij tussen 2009 en 2012 twee CD’s en een DVD opnam met\ndaarop meerdere door hem geschreven nummers. Ook werkte hij als begeleider van artiesten als Matt\nSchofield\, Jon Amor\, Mick Taylor\, Nico Wayne Toussaint\, David Gogo\, Carl Verheyen\, Tony Vega\, en\nArthur Ebeling Vanaf 2012 is hij actief met King of the World.\nwww.ruudweber.com \nLars Müller – gitaar/zang\nEen gitaarvirtuoos die vanaf jeugdige leeftijd speelde op podia in Oost Nederland. Onafscheidbaar van zijn\ngitaar\, heeft Lars zich ontwikkeld tot één van Nederlands grootste gitaristen. Deze afgestudeerde\nConservatorium student werkte samen met Snowy White op de Ruud Weber Band CD “New Blues” en is\nmomenteel actief in diverse bands. Hij is beïnvloed door de klassiekers als BB\, Freddie en Albert King\nmaar ook door de hedendaagse toppers als Carlton\, Clapton en Ford. Een bijzondere mix van oud en\nnieuw die door velen gezien wordt als de toekomst van de blues! \nFokke de Jong – drum/zang\nFokke de Jong kennen we van 24 jaar Normaal maar ook van zijn werk bij de Johan Derksen theatertours\,\nMalford Milligan en King of the World. Hij behoort dan ook tot een van de beste blues en roots drummers\nvan Nederland. Na het afstuderen op drums kwam hij via diverse formaties terecht kwam bij Bennie Jolink\nen zijn mannen die Fokke ontdekte toen hij het voorprogramma verzorgde bij een van de shows. Kort\ndaarop zochten ze een drummer en de link was snel gelegd. Naast de grote namen deed hij veel\nsessiewerk en speelde hij met\, David Gogo\, Catfever\, Sunset Travelers\, Shiner Twins\, South Side Blues\nBand\, de Kast\, Bullo\, Jan Tekstra en vele andere. In 2014 werd hij uitgeroepen tot beste blues drummer\ndoor de Dutch Blues Foundation.
URL:https://brouwhuyslive.nl/event/ruud-weber-band-ft-lars-muller-fokke-de-jong/
LOCATION:Grolsch Brouwhuys De Lange Gang\, Kevelderstraat 15\, Groenlo\, 7141BE\, Nederland
ATTACH;FMTTYPE=image/jpeg:https://brouwhuyslive.nl/wp-content/uploads/2026/01/02-RuudWeberBand-Live-02.jpg
END:VEVENT
BEGIN:VEVENT
DTSTART;TZID=UTC:20251214T160000
DTEND;TZID=UTC:20251214T190000
DTSTAMP:20260426T004142
CREATED:20250226T103123Z
LAST-MODIFIED:20251122T143843Z
UID:578-1765728000-1765738800@brouwhuyslive.nl
SUMMARY:Brouwhuys LIVE! presenteert Wood'n Goldfish
DESCRIPTION:Wood’n Goldfish is een vijfkoppige band die zijn roots kent in het mooie Kampen.\nHet is een band die zijn invloeden haalt uit de Country\, Americana- en Folkmuziek.\nRobin ten Klooster en Niels van der Kamp zijn bewapend met hun gitaren en\nstemmen die in samenspel met bassist Geert Pfeiffer en toetsenist Jasper van der\nDeen verrassend harmonieus meerstemmig samenwerken. Dave Vermeulen\,\nmeester van de cajon\, maakt het plaatje af. \nDe band vertolkt momenteel voornamelijk covers van hun grote helden\, zoals\nEagles\, Jim Croce\, Eric Clapton en Johnny Cash\, maar de band timmert ook aan de\nweg met hun eigen repertoire. Wood’n Goldfish weet een intieme sfeer te creëren\,\nmaar is ook zeker in staat om het publiek op te zwepen. Vrolijk en fris tegenover\nrustig een meeslepend\, een blond biertje arm in arm met een bourbon whiskey.\nAls je dat afwisselt en goed combineert\, ligt daar de kracht van Wood’n Goldfish.\nBovenal zijn het ambitieuze\, gepassioneerde jongens met veel energie en lust. En\nof het je nou doet terugdenken aan warme avonden bij een ondergaande\nzomerzon of aan losbandige danspasjes en koud bier\, dat maakt niet uit. \nUiteindelijk zal Wood’n Goldfish je met elk nummer proberen te pakken en die\ndrive is essentieel.\nIn een wereld waar we worden overspoeld door een grote verscheidenheid aan\nmuziek en artiesten\, hebben we muzikanten nodig met oprechte passie voor het\nmaken van muziek en het blij maken van luisterend publiek. \nHeb vertrouwen en hou vol\, ze komen eraan!
URL:https://brouwhuyslive.nl/event/brouwhuys-live-presenteert-woodn-goldfish/
LOCATION:Grolsch Brouwhuys De Lange Gang\, Kevelderstraat 15\, Groenlo\, 7141BE\, Nederland
ATTACH;FMTTYPE=image/jpeg:https://brouwhuyslive.nl/wp-content/uploads/2025/11/Foto-4-scaled.jpg
END:VEVENT
BEGIN:VEVENT
DTSTART;TZID=UTC:20251026T160000
DTEND;TZID=UTC:20251026T183000
DTSTAMP:20260426T004142
CREATED:20250226T103034Z
LAST-MODIFIED:20251016T144252Z
UID:576-1761494400-1761503400@brouwhuyslive.nl
SUMMARY:Brouwhuys LIVE! presenteert Living Room Heroes
DESCRIPTION:‘Stap maar in! Een vrolijk gekleurd camperbusje staat op je te wachten. Een busje met een lekker bankje\, een kastje vol eten\, een prima bed en…goede muziek. Je bent op pad met de Living Room Heroes. Het warme\, relaxte\, soulvolle geluid van deze gemoedelijke en stoere band roept herinneringen op van mooie avonturen. Op pad over de eindeloze vlaktes van het Amerikaanse continent. Verdriet achterlatend\, mijmerend over een vrolijke toekomst.\nHun teksten brengen je in een optimistische stemming. Je beleeft nieuwe avonturen op mooie dagen\, dagen waarbij het leven je toelacht. Het zijn Days Well Spent’. \nMet Days Well Spent vieren de Living Room Heroes hun debuutalbum. Geïnspireerd door hun muzikale helden zoals: the Woodbrothers\, Amos Lee en Ben Harper is een album vol muzikale fijnzinnigheden en een warme\, eerlijke sound tot stand gekomen. Reis mee in het tourbusje van de mannen\, die altijd jongens zijn gebleven\, en laat je meenemen naar dertien wonderlijke plaatsen en gebeurtenissen\, plekken waar je naar terug wilt blijven reizen. \nDays Well Spent is het vervolg op 2 eerder uitgebrachte EP’s ‘Head over Heels’ uit 2013 en ‘Fool To Believe’ 2014\, waar langzaam de transformatie van een singer-songwriter duo tot een southern soulband met ervaren muzikanten te horen is. Muzikanten die met groot gemak en vooral plezier tijdens een liveoptreden hun enthousiasme en improvisaties laten zien en horen. Een Nederlandse band\, wortels in Nijmegen met een Amerikaans geluid. Na optredens op radio 2 en 3fm en voorprogramma’s voor o.a. Douwe Bob\, Robert Jon and The Wreck en Albert Lee\, presenteren zij met trots hun album op 23 september in de Merlyn in Nijmegen. \nDe mannen nemen je mee in een relaxte mood\, genietend van het moment. ‘Ga je mee?’ \nQUOTES\nDouwe Bob: ”Beste band die ik in tijden heb gezien.”\n“Living Room Heroes uit Nederland met een fantastisch eigen repertoire wat zijn weerga niet kent zowel qua zang als muzikaliteit.”\n“Jullie onderlinge chemie op het podium straalt er vanaf. Je kunt zien dat jullie veel plezier hebben samen.”\n“Wat een weergaloos optreden gisteravond !!! We hebben genoten! Hopen dat jullie nog eens terugkomen…..”\n“Verrassend goed… ik heb genoten…” \nBAND BEZETTING\nHenri Zoetbrood:          zang / akoestische gitaar\nMarc van Hout:            elektrische gitaar / backing vocals\nRodrigo Davids:           basgitaar / backing vocals\nBjörn van den Boom:       drums / backing vocals
URL:https://brouwhuyslive.nl/event/brouwhuys-live-presenteert-living-room-heroes/
LOCATION:Grolsch Brouwhuys De Lange Gang\, Kevelderstraat 15\, Groenlo\, 7141BE\, Nederland
ATTACH;FMTTYPE=image/jpeg:https://brouwhuyslive.nl/wp-content/uploads/2024/12/Living-Room-Heroes.jpg
END:VEVENT
BEGIN:VEVENT
DTSTART;TZID=UTC:20250601T160000
DTEND;TZID=UTC:20250601T183000
DTSTAMP:20260426T004142
CREATED:20250226T102802Z
LAST-MODIFIED:20250528T163508Z
UID:572-1748793600-1748802600@brouwhuyslive.nl
SUMMARY:Brouwhuys LIVE! presenteert Green Valentine
DESCRIPTION:Min of meer per toeval speelden Valentine en Joël in 2010 een keer als zang/piano -duo samen op een besloten familiefeestje. Dit beviel zo goed dat Green Valentine binnen no time een feit was! Begonnen als duo voor tuinfeestjes\, huwelijksceremonies\, borrels en luisterconcerten werd Green Valentine na enkele jaren ook actief als trio\, aangevuld met bassiste Dayenne Wielheesen. \nVoor situaties waarbij er nóg meer gedanst mag worden\, speelt de band in nog grotere bezetting. Zo staan op 1 juni tijdens Brouwhuys Live ook gitarist Martijn Evers en pianist Marijn Nijenhuis op het podium. Muzikanten waarmee de rest van de band al sinds de middelbare school samen muziek meemaakt. \nBill Withers\, Bruno Mars\, Melody Gardot\, Michael Jackson\, Alicia Keys\, Stevie Wonder en Jamie Cullum… Soul en pop met een jazzy inslag passeren de revue binnen het repertoire van Green Valentine. Maar ook uitstapjes naar blues\, country en funk worden niet geschuwd. \nGreen Valentine:\nValentine Reijers &#8211; zang\nJoël Groen &#8211; drums\nDayenne Wielheesen &#8211; bas\nMartijn Evers &#8211; gitaar\nMarijn Nijenhuis &#8211; piano
URL:https://brouwhuyslive.nl/event/brouwhuys-live-presenteert-green-valentine/
LOCATION:Grolsch Brouwhuys De Lange Gang\, Kevelderstraat 15\, Groenlo\, 7141BE\, Nederland
ATTACH;FMTTYPE=image/jpeg:https://brouwhuyslive.nl/wp-content/uploads/2025/02/Green-Valentine.jpg
END:VEVENT
BEGIN:VEVENT
DTSTART;TZID=UTC:20250421T160000
DTEND;TZID=UTC:20250421T190000
DTSTAMP:20260426T004142
CREATED:20250226T102635Z
LAST-MODIFIED:20250407T134017Z
UID:570-1745251200-1745262000@brouwhuyslive.nl
SUMMARY:Brouwhuys LIVE! presenteert Goya
DESCRIPTION:De naam Goya slaat op de kunst van het verhalen vertellen\, alsof het de werkelijkheid is\, alsof je er zelf bij was.\nLaat je meevoeren in ons verhaal! Wij nemen je met onze muziek mee naar de fijnste plekjes op de wereld. Voel het zand tussen je tenen\, het zout op je lippen\, de wind door je haren en ga met Goya mee op reis. Welke tijd van het jaar het ook is.\nMet onze energieke show brengen we de zon mee en het publiek aan het dansen!\nDe stijl? Tja\, welke naam zullen we er eens aan geven … Ska en Gypsy jazz voeren de boventoon. Vervlochten met een groovy beat\, met in de verte wereldse klanken\, zorgt dit voor een vrolijke\, dynamische sound.\nSpeciaal voor Brouwhuys Live zal Goya op 21 april naast het eigen werk ook enkele covers spelen.\nGoya heeft onder andere gespeeld op Huntenpop\, Djazz Vibes en Over De Top Festival. \nCollin Daamen – zang & toetsen\nNicolas Bardou – gitaar\nDayenne Wielheesen – basgitaar & zang\nJoël Groen – drums & zang\nJesper Stam – toetsen & percussie
URL:https://brouwhuyslive.nl/event/brouwhuys-live-presenteert-goya/
LOCATION:Grolsch Brouwhuys De Lange Gang\, Kevelderstraat 15\, Groenlo\, 7141BE\, Nederland
ATTACH;FMTTYPE=image/jpeg:https://brouwhuyslive.nl/wp-content/uploads/2025/04/Goya-foto-2024-1-scaled.jpg
END:VEVENT
BEGIN:VEVENT
DTSTART;TZID=UTC:20250316T160000
DTEND;TZID=UTC:20250316T190000
DTSTAMP:20260426T004142
CREATED:20250226T102147Z
LAST-MODIFIED:20250226T102147Z
UID:568-1742140800-1742151600@brouwhuyslive.nl
SUMMARY:Brouwhuys LIVE presenteert Trio BRO
DESCRIPTION:BRO brengt een unieke mix van jazz\, soul\, rhythm-and-blues en New Orleans-invloeden\, waarbij de ras-muzikanten niet alleen instrumentaal excelleren\, maar ook vocaal een sterke harmonie neerzetten. Hun muziek balanceert tussen swingende grooves en sfeervolle melodieën\, waarbij zowel eigen composities als verrassende interpretaties van klassiekers op het repertoire staan.   \nDe optredens van BRO worden gekenmerkt door hun energieke en soulvolle uitstraling\, waarbij interactie met het publiek een belangrijke rol speelt. Hun samenspel en muzikaliteit zorgen voor een meeslepende ervaring die zowel jazzliefhebbers als liefhebbers van roots- en blues/soul muziek aanspreekt.\nNaast eigen songs spelen de heren ook covers van o.a. Marc Cohn\, Keb’Mo\, Paul Garrack\, Harry Connick jr etc.\, maar met een onderliggende gedachte: er is geen ontkomen aan de diepliggende Grooves van het drietal.  \nWie zijn BRO?\nSjoerd van Bommel (drums\, percussie en vocals) zingt en drumt moeiteloos in alle stijlen.\nToetsen-virtuoos Mike Roelofs (pianist/componist /audiospecialist)\, speelt op Hammond en Wurlitzer en verzorgt zang\nBart Oostindie (gitarist/componist/songwriter/docent)\, een topper op zowel de elektrische als de akoestische Gibson gitaar en zang.
URL:https://brouwhuyslive.nl/event/brouwhuys-live-presenteert-trio-bro/
LOCATION:Grolsch Brouwhuys De Lange Gang\, Kevelderstraat 15\, Groenlo\, 7141BE\, Nederland
ATTACH;FMTTYPE=image/jpeg:https://brouwhuyslive.nl/wp-content/uploads/2025/02/IMG-20250219-WA0001.jpg
END:VEVENT
BEGIN:VEVENT
DTSTART;TZID=UTC:20241215T160000
DTEND;TZID=UTC:20241215T190000
DTSTAMP:20260426T004142
CREATED:20240108T203657Z
LAST-MODIFIED:20241208T105030Z
UID:499-1734278400-1734289200@brouwhuyslive.nl
SUMMARY:Brouwhuys LIVE presenteert LIVING ROOM HEROES
DESCRIPTION:‘Stap maar in! Een vrolijk gekleurd camperbusje staat op je te wachten. Een busje met een lekker bankje\, een kastje vol eten\, een prima bed en…goede muziek. Je bent op pad met de Living Room Heroes. Het warme\, relaxte\, soulvolle geluid van deze gemoedelijke en stoere band roept herinneringen op van mooie avonturen. Op pad over de eindeloze vlaktes van het Amerikaanse continent. Verdriet achterlatend\, mijmerend over een vrolijke toekomst.\nHun teksten brengen je in een optimistische stemming. Je beleeft nieuwe avonturen op mooie dagen\, dagen waarbij het leven je toelacht. Het zijn Days Well Spent’.\nMet Days Well Spent vieren de Living Room Heroes hun debuutalbum. Geïnspireerd door hun muzikale helden zoals: the Woodbrothers\, Amos Lee en Ben Harper is een album vol muzikale fijnzinnigheden en een warme\, eerlijke sound tot stand gekomen. Reis mee in het tourbusje van de mannen\, die altijd jongens zijn gebleven\, en laat je meenemen naar dertien wonderlijke plaatsen en gebeurtenissen\, plekken waar je naar terug wilt blijven reizen.\nDays Well Spent is het vervolg op 2 eerder uitgebrachte EP’s ‘Head over Heels’ uit 2013 en ‘Fool To Believe’ 2014\, waar langzaam de transformatie van een singer-songwriter duo tot een southern soulband met ervaren muzikanten te horen is. Muzikanten die met groot gemak en vooral plezier tijdens een liveoptreden hun enthousiasme en improvisaties laten zien en horen. Een Nederlandse band\, wortels in Nijmegen met een Amerikaans geluid. Na optredens op radio 2 en 3fm en voorprogramma’s voor o.a. Douwe Bob\, Robert Jon and The Wreck en Albert Lee\, presenteren zij met trots hun album op 23 september in de Merlyn in Nijmegen.\nDe mannen nemen je mee in een relaxte mood\, genietend van het moment. ‘Ga je mee?’\nQUOTES\nDouwe Bob: ”Beste band die ik in tijden heb gezien.”\n“Living Room Heroes uit Nederland met een fantastisch eigen repertoire wat zijn weerga niet kent zowel qua zang als muzikaliteit.”\n“Jullie onderlinge chemie op het podium straalt er vanaf. Je kunt zien dat jullie veel plezier hebben samen.”\n“Wat een weergaloos optreden gisteravond !!! We hebben genoten! Hopen dat jullie nog eens terugkomen…..”\n“Verrassend goed… ik heb genoten…” \nBAND BEZETTING\nHenri Zoetbrood:          zang / akoestische gitaar\nMarc van Hout:            elektrische gitaar / backing vocals\nRodrigo Davids:           basgitaar / backing vocals\nBjörn van den Boom:       drums / backing vocals
URL:https://brouwhuyslive.nl/event/brouwhuys-live-presenteert-5/
LOCATION:Grolsch Brouwhuys De Lange Gang\, Kevelderstraat 15\, Groenlo\, 7141BE\, Nederland
ATTACH;FMTTYPE=image/jpeg:https://brouwhuyslive.nl/wp-content/uploads/2024/12/Living-Room-Heroes.jpg
END:VEVENT
BEGIN:VEVENT
DTSTART;TZID=UTC:20241110T160000
DTEND;TZID=UTC:20241110T190000
DTSTAMP:20260426T004142
CREATED:20240108T203519Z
LAST-MODIFIED:20241029T200503Z
UID:497-1731254400-1731265200@brouwhuyslive.nl
SUMMARY:Brouwhuys LIVE presenteert Sam Ghezzi & Band
DESCRIPTION:Sam Ghezzi – zanger\, tenor saxofonist en harmonica-speler – presenteert met trots zijn bluesband\, gevormd met getalenteerde muzikanten uit Amsterdam\, zoals Remi Banklyn en Dusty Ciggaar op gitaar\, Cesar Puente op contrabas en Joe Korach op drums. \nDe band brengt een specifieke stijl van blues weer tot leven\, bekend als “Chicago Blues”. Dit elektrische genre werd in de jaren &#8217;50 gespeeld door muzikanten op huurfeesten en in de straten van Chicago\, Illinois. Daarnaast is er ook “Jump Blues”\, een energieke en swingende stijl vol invloeden van de jazz uit de jaren &#8217;40. Laat je meevoeren door de authentieke klanken en ritmes van deze onvergetelijke blues!
URL:https://brouwhuyslive.nl/event/brouwhuys-live-presenteert-4/
LOCATION:Grolsch Brouwhuys De Lange Gang\, Kevelderstraat 15\, Groenlo\, 7141BE\, Nederland
ATTACH;FMTTYPE=image/jpeg:https://brouwhuyslive.nl/wp-content/uploads/2024/10/Sam-G-Blues-Band-scaled.jpg
END:VEVENT
BEGIN:VEVENT
DTSTART;TZID=UTC:20240915T160000
DTEND;TZID=UTC:20240915T190000
DTSTAMP:20260426T004142
CREATED:20240108T203342Z
LAST-MODIFIED:20240903T185129Z
UID:495-1726416000-1726426800@brouwhuyslive.nl
SUMMARY:Brouwhuys LIVE presenteert What the Hek?!
DESCRIPTION:What the Hek?! maakte zijn debuut op het festival LayLow in…Lintelo toen de organisatoren (Outbound\nScallywag) op zoek waren naar een passende akoestische pop-up act die de ruimte tussen de acts op\nhet hoofdpodium zou moete opvullen. Douwe Hek en Dennis Pennings waren van mening dat ze dit\nwel voor elkaar zouden krijgen\, na een beetje rondvragen en organiseren werd er uit de bands\nContra Fools en Different Jacket\, aangevuld met Bert Hek een formatie gesmeed die deze klus zou\nmoeten klaren en de rest is eigenlijk geschiedenis.. \nHet repertoire bestond die dag uit bluegrassnummers\, geinsprireerd op de film “Oh Brother\, where\nart Thou” die speelt in de 30-er jaren van de vorige eeuw in het zuiden van de VS\, met als meest\nkenmerkende nummer “Man of constant Sorrow” \nHet optreden was buitengewoon succesvol en besloten werd om door te gaan op de ingeslagen weg\nmet een repertoire van Bluegrass\, Cajun\, maar ook hedendaagse Americana (Johnny Cash\, Steve\nEarle\, The Steeldrivers) zodat verveling geen kans krijgt en de voeten regelmatig van de vloer\nmoeten.  \nWtH bestaat uit:\n&#8211; Dennis Pennings: Zang\, gitaar\n&#8211; Heleen Nijweide: Zang\, gitaar\, tin whistle\, fiddle\, mondharmonica\n&#8211; Bert Hek: Zang\, mandoline\, banjo\, accordeon\n&#8211; Douwe Hek: Zang\, contrabas\n&#8211; Merijn Beijer: Zang\, drums\n&#8211; Fabio Witzand: Wasbord
URL:https://brouwhuyslive.nl/event/brouwhuys-live-presenteert-3/
LOCATION:Grolsch Brouwhuys De Lange Gang\, Kevelderstraat 15\, Groenlo\, 7141BE\, Nederland
ATTACH;FMTTYPE=image/jpeg:https://brouwhuyslive.nl/wp-content/uploads/2024/09/What-the-Hek.1.jpg
END:VEVENT
BEGIN:VEVENT
DTSTART;TZID=UTC:20240526T160000
DTEND;TZID=UTC:20240526T190000
DTSTAMP:20260426T004142
CREATED:20240108T203201Z
LAST-MODIFIED:20240512T175957Z
UID:493-1716739200-1716750000@brouwhuyslive.nl
SUMMARY:Brouwhuys LIVE presenteert Shakedown Tim & the Rhythm Revue
DESCRIPTION:Shakedown Tim & the Rhythm Revue \n“Shakedown Tim” brengt down home blues en uptown boogie zoals die klonk in de jaren ’40 en ‘50\, maar zijn songs zijn hedendaags.\nZanger-gitarist en “Shakedown Tim” (ielegems) is geen onbekende in de blueswereld: oprichter van Fried Bourbon en staat ook vaak op het podium met Gene Taylor\, James Harman\, Willie Buck\, Roland Van Campenhout\, Steven De Bruyn\, Jo’ Buddy\, Little Victor… \n“Shakedown Tim” is niet enkel een uitzonderlijke gitarist/zanger maar ook een entertainer die zijn publiek goed weet te bespelen.\nZijn muzikanten zijn stuk voor stuk ervaren klasbakken met een grote passie voor old skool blues en jazz. \nHij bracht 2 albums uit op Het befaamde label “Rhythm Bomb Records” Dit bracht hem al van Boom over Helsinki tot in L.A.\nVoor zijn laatste album “Shakedown’s Thow’down” tekende de legendarische bluesman James Harman (USA) in als producer. \nHet geluid van een een vintage fat body gitaar\, een piano\, een strakke rhythm sectie én een bezielde zanger geeft een mix van low down blues\, happy blues\, wilde Memphis boogie\, swing jazz\, juke joint stomp met hier en daar een gospel.\nDeze band mikt op je heupen én op je ziel! \nDe Band:\nShakedown Tim ( Guitar – Vocals)\nIlias Scotch (piano)\nKurt lens ( Upright bass)\nKoen Van Peteghem (Drums)
URL:https://brouwhuyslive.nl/event/brouwhuys-live-presenteert-2/
LOCATION:Grolsch Brouwhuys De Lange Gang\, Kevelderstraat 15\, Groenlo\, 7141BE\, Nederland
ATTACH;FMTTYPE=image/jpeg:https://brouwhuyslive.nl/wp-content/uploads/2024/01/SDT-bandpic-2022-XXL-Wageningen-2-1600x1200-1.jpeg
END:VEVENT
BEGIN:VEVENT
DTSTART;TZID=UTC:20240414T160000
DTEND;TZID=UTC:20240414T190000
DTSTAMP:20260426T004142
CREATED:20240108T203017Z
LAST-MODIFIED:20240412T120150Z
UID:491-1713110400-1713121200@brouwhuyslive.nl
SUMMARY:Brouwhuys LIVE presenteert Ruud\, Lars en Marco
DESCRIPTION:Op 14 april is er weer een spetterend optreden bij Brouwhuys LIVE. Deze keer een aantal (oude) bekenden en alom gewaardeerde grootheden uit de muziekwereld. Het wordt een middag met muzikale hoogstandjes en afwisselende stijlen. Een must voor de liefhebber van live-muziek. \nDe uit Enschede afkomstige Ruud Weber kennen we als zanger-bassist van King of the World en Snowy White. Hij begeleide nationale en internationale artiesten als Matt Schofield\, Kid Ramos\, Jon Amor\, Mick Taylor\, David Gogo e.v.a. Hij werd tot driemaal toe verkozen tot “Best Blues Bassist” (2013\, 2014\, 2016) door the Dutch Blues Foundation.  \nRuud Weber komt samen met gitaarvirtuoos Lars Muller die beïnvloed is door de “three Kings (BB\, Albert & Freddie King) maar ook door de moderne bluesgitaristen als Larry Carlton en Robben Ford.  \nDrummer Marco Overkamp kennen we onder andere van zijn werk bij het Bluesworld Collective waarbij hij een grote reeks blues artiesten begeleidde.  \nDe roots en blues van dit powertrio worden sterk gekenmerkt door de kenmerkende gitaarsound van Lars Muller. De energieke show van Ruud\, Lars en Marco\, met een mix van verschillende rootsstijlen\, staat voor absolute wereldklasse. De ervaring spat ervan af bij dit trio! Een must voor de liefhebber van livemuziek.
URL:https://brouwhuyslive.nl/event/brouwhuys-live-presenteert/
LOCATION:Grolsch Brouwhuys De Lange Gang\, Kevelderstraat 15\, Groenlo\, 7141BE\, Nederland
ATTACH;FMTTYPE=image/jpeg:https://brouwhuyslive.nl/wp-content/uploads/2024/04/RWB-Lars-Marco-1.jpg
END:VEVENT
BEGIN:VEVENT
DTSTART;TZID=UTC:20240310T160000
DTEND;TZID=UTC:20240310T190000
DTSTAMP:20260426T004142
CREATED:20240108T202810Z
LAST-MODIFIED:20240108T205653Z
UID:488-1710086400-1710097200@brouwhuyslive.nl
SUMMARY:Brouwhuys LIVE presenteert de Martijn Bakker Band
DESCRIPTION:Martijn is zanger\, pianist en songwriter maar noemt zichzelf liever muzikant.\nZijn muziek gaat over het leven. Over reizen\, twijfels\, verlies\, liefde en zijn liefde voor muziek! En is een mix tussen pop\, soul en jazz. \nInvloeden zijn o.a. Gregory Porter\, Elton John\, Frank Sinatra\, Bill Withers\, James Ingram en Raul Midon. \nMartijn studeerde zang aan het Conservatorium te Enschede en trad daarna op in verschillende formaties. Van Qatar tot aan Kiel en van Southampton tot Madeira.\nNaast zijn eigen band speelt en zingt hij ook in Bee Gees Forever. \nEen band vol ervaring:\nJan Wessels (trompet)\, Gerard Peters (gitaar)\, Joost Visser (drums)\, Mark Lucassen (sax)\, Cristian Valkenburg (Hammond) en Pieter Althuis (bas). \nLive spelen ze vooral eigen werk maar ook brengen ze ook een eerbetoon aan artiesten of nummers die Martijn hebben geïnspireerd.
URL:https://brouwhuyslive.nl/event/brouwhuys-live-presenteert-martijn-bakker-band/
LOCATION:Grolsch Brouwhuys De Lange Gang\, Kevelderstraat 15\, Groenlo\, 7141BE\, Nederland
ATTACH;FMTTYPE=image/jpeg:https://brouwhuyslive.nl/wp-content/uploads/2024/01/a179846b-471e-4acb-9a32-1d969435ef5b-1.jpg
END:VEVENT
BEGIN:VEVENT
DTSTART;TZID=UTC:20240121T160000
DTEND;TZID=UTC:20240121T190000
DTSTAMP:20260426T004142
CREATED:20240108T201842Z
LAST-MODIFIED:20240108T202402Z
UID:482-1705852800-1705863600@brouwhuyslive.nl
SUMMARY:Brouwhuys LIVE presenteert Scotch no Soda
DESCRIPTION:Scotch No Soda is een straffe Belgische Blues en Rock &#8216;n&#8217; Roll band.\nIlias Scotch is een van de meest getalenteerde boogie en blues zanger-pianisten van het\nmoment. Met zijn band Scotch No Soda brengt hij al jaar en dag coole eigenzinnige live shows.\nSinds begin 2023 is Gilles Droixhe gitarist van dienst. Zijn “soul” was enkel te vinden de\nkanten van Luik.  \nMet Micha Teller op bas (elektrisch en contrabas) en Koen Van Peteghem op drums mag je\nhier gerust rekenen op een interessante\, solide rhythm section.\nDeze mannen kennen duidelijk wat van de Amerikaanse popmuziek sinds pakweg de jaren\n&#8217;20 van de vorige eeuw. Toch wordt het nooit saai of puriteins en is hun sound en live-energie heel relevant vandaag. \nScotch No Soda kan wel eens eigenwijs uit de hoek komen maar je mag je altijd verwachten\naan enthousiast gebrachte\, dansbare\, strakke live-muziek.\nNiet te missen dus!
URL:https://brouwhuyslive.nl/event/brouwhuys-live-presenteert-scotch-no-soda/
LOCATION:Grolsch Brouwhuys De Lange Gang\, Kevelderstraat 15\, Groenlo\, 7141BE\, Nederland
ATTACH;FMTTYPE=image/jpeg:https://brouwhuyslive.nl/wp-content/uploads/2024/01/6d7bc1_099f90b3d4c64313bd54a1a6f7b70ed9mv2-scaled.jpg
END:VEVENT
END:VCALENDAR